BEGIN:VCALENDAR
VERSION:2.0
PRODID:-//The Wot-If? Trust - ECPv6.15.20//NONSGML v1.0//EN
CALSCALE:GREGORIAN
METHOD:PUBLISH
X-ORIGINAL-URL:https://wot-if.co.za
X-WR-CALDESC:Events for The Wot-If? Trust
REFRESH-INTERVAL;VALUE=DURATION:PT1H
X-Robots-Tag:noindex
X-PUBLISHED-TTL:PT1H
BEGIN:VTIMEZONE
TZID:UTC
BEGIN:STANDARD
TZOFFSETFROM:+0000
TZOFFSETTO:+0000
TZNAME:UTC
DTSTART:20180101T000000
END:STANDARD
END:VTIMEZONE
BEGIN:VEVENT
DTSTART;TZID=UTC:20190718T100000
DTEND;TZID=UTC:20190718T140000
DTSTAMP:20260421T150209
CREATED:20190627T084704Z
LAST-MODIFIED:20190627T085212Z
UID:3136-1563444000-1563458400@wot-if.co.za
SUMMARY:Mandela Day Event
DESCRIPTION:We host an annual Mandela Day event\, where corporates and community stakeholders can come assist with community development activities. This year we’ll also be launching our Eco Trading Store. \nContact us if you would like to attend.
URL:https://wot-if.co.za/event/build-your-business-social-media-masterclass/
END:VEVENT
BEGIN:VEVENT
DTSTART;TZID=UTC:20190718T080000
DTEND;TZID=UTC:20190718T170000
DTSTAMP:20260421T150209
CREATED:20190627T100239Z
LAST-MODIFIED:20190627T103040Z
UID:3173-1563436800-1563469200@wot-if.co.za
SUMMARY:Women's Empowerment Handcraft & Production session
DESCRIPTION:This Women’s Empowerment initiative helps unemployed women from Diepsloot earn an income. \nThe handcraft and production group meet twice a week. The beautiful items they create are sold at markets and via various online platforms. \nTo see their products\, follow their Facebook page
URL:https://wot-if.co.za/event/womens-empowerment-handraft-production-session-6/
END:VEVENT
BEGIN:VEVENT
DTSTART;VALUE=DATE:20190716
DTEND;VALUE=DATE:20190717
DTSTAMP:20260421T150209
CREATED:20190627T100114Z
LAST-MODIFIED:20190627T103047Z
UID:3171-1563235200-1563321599@wot-if.co.za
SUMMARY:Women's Empowerment Handcraft & Production session
DESCRIPTION:This Women’s Empowerment initiative helps unemployed women from Diepsloot earn an income. \nThe handcraft and production group meet twice a week. The beautiful items they create are sold at markets and via various online platforms. \nTo see their products\, follow their Facebook page
URL:https://wot-if.co.za/event/womens-empowerment-handraft-production-session-5/
END:VEVENT
BEGIN:VEVENT
DTSTART;TZID=UTC:20190711T080000
DTEND;TZID=UTC:20190711T170000
DTSTAMP:20260421T150209
CREATED:20190627T095941Z
LAST-MODIFIED:20190627T103055Z
UID:3168-1562832000-1562864400@wot-if.co.za
SUMMARY:Women's Empowerment Handcraft & Production session
DESCRIPTION:This Women’s Empowerment initiative helps unemployed women from Diepsloot earn an income. \nThe handcraft and production group meet twice a week. The beautiful items they create are sold at markets and via various online platforms. \nTo see their products\, follow their Facebook page
URL:https://wot-if.co.za/event/womens-empowerment-handraft-production-session-4/
END:VEVENT
BEGIN:VEVENT
DTSTART;TZID=UTC:20190709T080000
DTEND;TZID=UTC:20190709T170000
DTSTAMP:20260421T150209
CREATED:20190627T095855Z
LAST-MODIFIED:20190627T103104Z
UID:3166-1562659200-1562691600@wot-if.co.za
SUMMARY:Women's Empowerment Handcraft & Production session
DESCRIPTION:This Women’s Empowerment initiative helps unemployed women from Diepsloot earn an income. \nThe handcraft and production group meet twice a week. The beautiful items they create are sold at markets and via various online platforms. \nTo see their products\, follow their Facebook page
URL:https://wot-if.co.za/event/womens-empowerment-handraft-production-session-3/
END:VEVENT
BEGIN:VEVENT
DTSTART;VALUE=DATE:20190708
DTEND;VALUE=DATE:20190713
DTSTAMP:20260421T150209
CREATED:20190627T085744Z
LAST-MODIFIED:20190627T085744Z
UID:3142-1562544000-1562975999@wot-if.co.za
SUMMARY:eHUB Renovations
DESCRIPTION:
URL:https://wot-if.co.za/event/ehub-renovations/
END:VEVENT
BEGIN:VEVENT
DTSTART;TZID=UTC:20190705T094500
DTEND;TZID=UTC:20190705T140000
DTSTAMP:20260421T150209
CREATED:20190627T085632Z
LAST-MODIFIED:20190627T085633Z
UID:3140-1562319900-1562335200@wot-if.co.za
SUMMARY:Build your Business Social Media Master Class
DESCRIPTION:
URL:https://wot-if.co.za/event/build-your-business-social-media-master-class/
END:VEVENT
BEGIN:VEVENT
DTSTART;TZID=UTC:20190704T080000
DTEND;TZID=UTC:20190704T170000
DTSTAMP:20260421T150209
CREATED:20190627T095749Z
LAST-MODIFIED:20190627T103124Z
UID:3164-1562227200-1562259600@wot-if.co.za
SUMMARY:Women's Empowerment Handcraft & Production session
DESCRIPTION:This Women’s Empowerment initiative helps unemployed women from Diepsloot earn an income. \nThe handcraft and production group meet twice a week. The beautiful items they create are sold at markets and via various online platforms. \nTo see their products\, follow their Facebook page
URL:https://wot-if.co.za/event/womens-empowerment-handraft-production-session-2/
END:VEVENT
BEGIN:VEVENT
DTSTART;TZID=UTC:20190703T080000
DTEND;TZID=UTC:20190703T170000
DTSTAMP:20260421T150209
CREATED:20190404T151858Z
LAST-MODIFIED:20190404T151859Z
UID:3072-1562140800-1562173200@wot-if.co.za
SUMMARY:Diepsloot Community Chamber Breakfast
DESCRIPTION:
URL:https://wot-if.co.za/event/diepsloot-community-chamber-breakfast-3/
END:VEVENT
BEGIN:VEVENT
DTSTART;VALUE=DATE:20190702
DTEND;VALUE=DATE:20190703
DTSTAMP:20260421T150209
CREATED:20190627T095609Z
LAST-MODIFIED:20190627T103135Z
UID:3162-1562025600-1562111999@wot-if.co.za
SUMMARY:Women's Empowerment Handcraft & Production session
DESCRIPTION:This Women’s Empowerment initiative helps unemployed women from Diepsloot earn an income. \nThe handcraft and production group meet twice a week. The beautiful items they create are sold at markets and via various online platforms. \nTo see their products\, follow their Facebook page \n 
URL:https://wot-if.co.za/event/womens-empowerment-handraft-production-session/
END:VEVENT
BEGIN:VEVENT
DTSTART;VALUE=DATE:20190630
DTEND;VALUE=DATE:20190701
DTSTAMP:20260421T150209
CREATED:20190325T154349Z
LAST-MODIFIED:20190325T154349Z
UID:2995-1561852800-1561939199@wot-if.co.za
SUMMARY:World Social Media Day
DESCRIPTION:
URL:https://wot-if.co.za/event/world-social-media-day/
END:VEVENT
BEGIN:VEVENT
DTSTART;TZID=UTC:20190628T080000
DTEND;TZID=UTC:20190628T170000
DTSTAMP:20260421T150209
CREATED:20190325T140151Z
LAST-MODIFIED:20190325T140151Z
UID:2949-1561708800-1561741200@wot-if.co.za
SUMMARY:Roots & Shoots
DESCRIPTION:
URL:https://wot-if.co.za/event/roots-shoots-14/
END:VEVENT
BEGIN:VEVENT
DTSTART;TZID=UTC:20190627T080000
DTEND;TZID=UTC:20190627T170000
DTSTAMP:20260421T150209
CREATED:20190325T134025Z
LAST-MODIFIED:20190627T103206Z
UID:2911-1561622400-1561654800@wot-if.co.za
SUMMARY:Women's Empowerment Handcraft & Production session
DESCRIPTION:
URL:https://wot-if.co.za/event/womens-empowerment-handcrafting-25/
END:VEVENT
BEGIN:VEVENT
DTSTART;TZID=UTC:20190625T080000
DTEND;TZID=UTC:20190625T170000
DTSTAMP:20260421T150209
CREATED:20190627T103735Z
LAST-MODIFIED:20190627T103735Z
UID:3242-1561449600-1561482000@wot-if.co.za
SUMMARY:Women's Empowerment Handcraft & Production session
DESCRIPTION:This Women’s Empowerment initiative helps unemployed women from Diepsloot earn an income. \nThe handcraft and production group meet twice a week. The beautiful items they create are sold at markets and via various online platforms. \nTo see their products\, follow their  Africa Works Facebook page
URL:https://wot-if.co.za/event/womens-empowerment-handcraft-production-session-5/
END:VEVENT
BEGIN:VEVENT
DTSTART;TZID=UTC:20190621T080000
DTEND;TZID=UTC:20190621T170000
DTSTAMP:20260421T150209
CREATED:20190325T140109Z
LAST-MODIFIED:20190325T140109Z
UID:2947-1561104000-1561136400@wot-if.co.za
SUMMARY:Roots & Shoots
DESCRIPTION:
URL:https://wot-if.co.za/event/roots-shoots-13/
END:VEVENT
BEGIN:VEVENT
DTSTART;VALUE=DATE:20190621
DTEND;VALUE=DATE:20190622
DTSTAMP:20260421T150209
CREATED:20190325T154155Z
LAST-MODIFIED:20190325T154155Z
UID:2993-1561075200-1561161599@wot-if.co.za
SUMMARY:International Day of Yoga
DESCRIPTION:
URL:https://wot-if.co.za/event/international-day-of-yoga/
END:VEVENT
BEGIN:VEVENT
DTSTART;TZID=UTC:20190620T080000
DTEND;TZID=UTC:20190620T170000
DTSTAMP:20260421T150209
CREATED:20190325T131458Z
LAST-MODIFIED:20190325T131458Z
UID:2901-1561017600-1561050000@wot-if.co.za
SUMMARY:Women’s Empowerment Handcrafting
DESCRIPTION:
URL:https://wot-if.co.za/event/womens-empowerment-handcrafting-21/
END:VEVENT
BEGIN:VEVENT
DTSTART;TZID=UTC:20190619T080000
DTEND;TZID=UTC:20190619T170000
DTSTAMP:20260421T150209
CREATED:20190327T124600Z
LAST-MODIFIED:20190401T114616Z
UID:3026-1560931200-1560963600@wot-if.co.za
SUMMARY:Business Master Class
DESCRIPTION:
URL:https://wot-if.co.za/event/business-master-class-3/
END:VEVENT
BEGIN:VEVENT
DTSTART;TZID=UTC:20190618T080000
DTEND;TZID=UTC:20190618T170000
DTSTAMP:20260421T150209
CREATED:20190325T133926Z
LAST-MODIFIED:20190325T133926Z
UID:2907-1560844800-1560877200@wot-if.co.za
SUMMARY:Women’s Empowerment Handcrafting
DESCRIPTION:
URL:https://wot-if.co.za/event/womens-empowerment-handcrafting-23/
END:VEVENT
BEGIN:VEVENT
DTSTART;VALUE=DATE:20190617
DTEND;VALUE=DATE:20190618
DTSTAMP:20260421T150209
CREATED:20190325T153842Z
LAST-MODIFIED:20190325T153951Z
UID:2989-1560729600-1560815999@wot-if.co.za
SUMMARY:Youth Day Observed
DESCRIPTION:FLBC & eHub closed due to public holiday
URL:https://wot-if.co.za/event/youth-day-observed/
END:VEVENT
BEGIN:VEVENT
DTSTART;TZID=UTC:20190616T080000
DTEND;TZID=UTC:20190616T170000
DTSTAMP:20260421T150209
CREATED:20190325T154023Z
LAST-MODIFIED:20190325T154023Z
UID:2991-1560672000-1560704400@wot-if.co.za
SUMMARY:Youth Day
DESCRIPTION:
URL:https://wot-if.co.za/event/youth-day/
END:VEVENT
BEGIN:VEVENT
DTSTART;VALUE=DATE:20190616
DTEND;VALUE=DATE:20190617
DTSTAMP:20260421T150209
CREATED:20190325T153725Z
LAST-MODIFIED:20190325T153725Z
UID:2987-1560643200-1560729599@wot-if.co.za
SUMMARY:Father's Day
DESCRIPTION:The Trust wishes everyone a Happy Father’s Day
URL:https://wot-if.co.za/event/fathers-day/
END:VEVENT
BEGIN:VEVENT
DTSTART;TZID=UTC:20190614T080000
DTEND;TZID=UTC:20190614T170000
DTSTAMP:20260421T150209
CREATED:20190325T140042Z
LAST-MODIFIED:20190325T140042Z
UID:2945-1560499200-1560531600@wot-if.co.za
SUMMARY:Roots & Shoots
DESCRIPTION:
URL:https://wot-if.co.za/event/roots-shoots-6/
END:VEVENT
BEGIN:VEVENT
DTSTART;TZID=UTC:20190613T080000
DTEND;TZID=UTC:20190613T170000
DTSTAMP:20260421T150209
CREATED:20190325T133858Z
LAST-MODIFIED:20190325T133858Z
UID:2905-1560412800-1560445200@wot-if.co.za
SUMMARY:Women’s Empowerment Handcrafting
DESCRIPTION:
URL:https://wot-if.co.za/event/womens-empowerment-handcrafting-20/
END:VEVENT
BEGIN:VEVENT
DTSTART;VALUE=DATE:20190612
DTEND;VALUE=DATE:20190613
DTSTAMP:20260421T150209
CREATED:20190325T153434Z
LAST-MODIFIED:20190325T153434Z
UID:2985-1560297600-1560383999@wot-if.co.za
SUMMARY:World Day Against Child Labour
DESCRIPTION:
URL:https://wot-if.co.za/event/world-day-against-child-labour/
END:VEVENT
BEGIN:VEVENT
DTSTART;TZID=UTC:20190611T080000
DTEND;TZID=UTC:20190611T170000
DTSTAMP:20260421T150209
CREATED:20190325T131338Z
LAST-MODIFIED:20190325T131338Z
UID:2897-1560240000-1560272400@wot-if.co.za
SUMMARY:Women’s Empowerment Handcrafting
DESCRIPTION:
URL:https://wot-if.co.za/event/womens-empowerment-handcrafting-19/
END:VEVENT
BEGIN:VEVENT
DTSTART;VALUE=DATE:20190608
DTEND;VALUE=DATE:20190609
DTSTAMP:20260421T150209
CREATED:20190325T153334Z
LAST-MODIFIED:20190325T153334Z
UID:2983-1559952000-1560038399@wot-if.co.za
SUMMARY:World Oceans Day
DESCRIPTION:
URL:https://wot-if.co.za/event/world-oceans-day/
END:VEVENT
BEGIN:VEVENT
DTSTART;TZID=UTC:20190607T080000
DTEND;TZID=UTC:20190607T170000
DTSTAMP:20260421T150209
CREATED:20190325T140014Z
LAST-MODIFIED:20190325T140014Z
UID:2943-1559894400-1559926800@wot-if.co.za
SUMMARY:Roots & Shoots
DESCRIPTION:
URL:https://wot-if.co.za/event/roots-shoots-5/
END:VEVENT
BEGIN:VEVENT
DTSTART;VALUE=DATE:20190607
DTEND;VALUE=DATE:20190608
DTSTAMP:20260421T150209
CREATED:20190325T153223Z
LAST-MODIFIED:20190325T153223Z
UID:2981-1559865600-1559951999@wot-if.co.za
SUMMARY:World Environment Day
DESCRIPTION:
URL:https://wot-if.co.za/event/world-environment-day/
END:VEVENT
BEGIN:VEVENT
DTSTART;TZID=UTC:20190606T080000
DTEND;TZID=UTC:20190606T170000
DTSTAMP:20260421T150209
CREATED:20190325T131308Z
LAST-MODIFIED:20190325T131308Z
UID:2895-1559808000-1559840400@wot-if.co.za
SUMMARY:Women’s Empowerment Handcrafting
DESCRIPTION:
URL:https://wot-if.co.za/event/womens-empowerment-handcrafting-18/
END:VEVENT
END:VCALENDAR