BEGIN:VCALENDAR
VERSION:2.0
PRODID:-//The Wot-If? Trust - ECPv6.15.20//NONSGML v1.0//EN
CALSCALE:GREGORIAN
METHOD:PUBLISH
X-WR-CALNAME:The Wot-If? Trust
X-ORIGINAL-URL:https://wot-if.co.za
X-WR-CALDESC:Events for The Wot-If? Trust
REFRESH-INTERVAL;VALUE=DURATION:PT1H
X-Robots-Tag:noindex
X-PUBLISHED-TTL:PT1H
BEGIN:VTIMEZONE
TZID:UTC
BEGIN:STANDARD
TZOFFSETFROM:+0000
TZOFFSETTO:+0000
TZNAME:UTC
DTSTART:20180101T000000
END:STANDARD
END:VTIMEZONE
BEGIN:VEVENT
DTSTART;TZID=UTC:20190616T080000
DTEND;TZID=UTC:20190616T170000
DTSTAMP:20260421T181622
CREATED:20190325T154023Z
LAST-MODIFIED:20190325T154023Z
UID:2991-1560672000-1560704400@wot-if.co.za
SUMMARY:Youth Day
DESCRIPTION:
URL:https://wot-if.co.za/event/youth-day/
END:VEVENT
BEGIN:VEVENT
DTSTART;VALUE=DATE:20190616
DTEND;VALUE=DATE:20190617
DTSTAMP:20260421T181622
CREATED:20190325T153725Z
LAST-MODIFIED:20190325T153725Z
UID:2987-1560643200-1560729599@wot-if.co.za
SUMMARY:Father's Day
DESCRIPTION:The Trust wishes everyone a Happy Father’s Day
URL:https://wot-if.co.za/event/fathers-day/
END:VEVENT
BEGIN:VEVENT
DTSTART;TZID=UTC:20190614T080000
DTEND;TZID=UTC:20190614T170000
DTSTAMP:20260421T181622
CREATED:20190325T140042Z
LAST-MODIFIED:20190325T140042Z
UID:2945-1560499200-1560531600@wot-if.co.za
SUMMARY:Roots & Shoots
DESCRIPTION:
URL:https://wot-if.co.za/event/roots-shoots-6/
END:VEVENT
BEGIN:VEVENT
DTSTART;TZID=UTC:20190613T080000
DTEND;TZID=UTC:20190613T170000
DTSTAMP:20260421T181622
CREATED:20190325T133858Z
LAST-MODIFIED:20190325T133858Z
UID:2905-1560412800-1560445200@wot-if.co.za
SUMMARY:Women’s Empowerment Handcrafting
DESCRIPTION:
URL:https://wot-if.co.za/event/womens-empowerment-handcrafting-20/
END:VEVENT
BEGIN:VEVENT
DTSTART;VALUE=DATE:20190612
DTEND;VALUE=DATE:20190613
DTSTAMP:20260421T181622
CREATED:20190325T153434Z
LAST-MODIFIED:20190325T153434Z
UID:2985-1560297600-1560383999@wot-if.co.za
SUMMARY:World Day Against Child Labour
DESCRIPTION:
URL:https://wot-if.co.za/event/world-day-against-child-labour/
END:VEVENT
BEGIN:VEVENT
DTSTART;TZID=UTC:20190611T080000
DTEND;TZID=UTC:20190611T170000
DTSTAMP:20260421T181622
CREATED:20190325T131338Z
LAST-MODIFIED:20190325T131338Z
UID:2897-1560240000-1560272400@wot-if.co.za
SUMMARY:Women’s Empowerment Handcrafting
DESCRIPTION:
URL:https://wot-if.co.za/event/womens-empowerment-handcrafting-19/
END:VEVENT
BEGIN:VEVENT
DTSTART;VALUE=DATE:20190608
DTEND;VALUE=DATE:20190609
DTSTAMP:20260421T181622
CREATED:20190325T153334Z
LAST-MODIFIED:20190325T153334Z
UID:2983-1559952000-1560038399@wot-if.co.za
SUMMARY:World Oceans Day
DESCRIPTION:
URL:https://wot-if.co.za/event/world-oceans-day/
END:VEVENT
BEGIN:VEVENT
DTSTART;TZID=UTC:20190607T080000
DTEND;TZID=UTC:20190607T170000
DTSTAMP:20260421T181622
CREATED:20190325T140014Z
LAST-MODIFIED:20190325T140014Z
UID:2943-1559894400-1559926800@wot-if.co.za
SUMMARY:Roots & Shoots
DESCRIPTION:
URL:https://wot-if.co.za/event/roots-shoots-5/
END:VEVENT
BEGIN:VEVENT
DTSTART;VALUE=DATE:20190607
DTEND;VALUE=DATE:20190608
DTSTAMP:20260421T181622
CREATED:20190325T153223Z
LAST-MODIFIED:20190325T153223Z
UID:2981-1559865600-1559951999@wot-if.co.za
SUMMARY:World Environment Day
DESCRIPTION:
URL:https://wot-if.co.za/event/world-environment-day/
END:VEVENT
BEGIN:VEVENT
DTSTART;TZID=UTC:20190606T080000
DTEND;TZID=UTC:20190606T170000
DTSTAMP:20260421T181622
CREATED:20190325T131308Z
LAST-MODIFIED:20190325T131308Z
UID:2895-1559808000-1559840400@wot-if.co.za
SUMMARY:Women’s Empowerment Handcrafting
DESCRIPTION:
URL:https://wot-if.co.za/event/womens-empowerment-handcrafting-18/
END:VEVENT
BEGIN:VEVENT
DTSTART;TZID=UTC:20190605T080000
DTEND;TZID=UTC:20190605T170000
DTSTAMP:20260421T181622
CREATED:20190404T151532Z
LAST-MODIFIED:20190404T151727Z
UID:3070-1559721600-1559754000@wot-if.co.za
SUMMARY:Diepsloot Community Chamber Breakfast
DESCRIPTION:
URL:https://wot-if.co.za/event/diepsloot-community-chamber-breakfast-2/
END:VEVENT
BEGIN:VEVENT
DTSTART;TZID=UTC:20190605T080000
DTEND;TZID=UTC:20190605T170000
DTSTAMP:20260421T181622
CREATED:20190327T124524Z
LAST-MODIFIED:20190401T114447Z
UID:3024-1559721600-1559754000@wot-if.co.za
SUMMARY:Creatives Master Class
DESCRIPTION:
URL:https://wot-if.co.za/event/creatives-master-class-2/
END:VEVENT
BEGIN:VEVENT
DTSTART;TZID=UTC:20190604T080000
DTEND;TZID=UTC:20190604T170000
DTSTAMP:20260421T181622
CREATED:20190325T131241Z
LAST-MODIFIED:20190325T131241Z
UID:2893-1559635200-1559667600@wot-if.co.za
SUMMARY:Women’s Empowerment Handcrafting
DESCRIPTION:
URL:https://wot-if.co.za/event/womens-empowerment-handcrafting-14/
END:VEVENT
BEGIN:VEVENT
DTSTART;TZID=UTC:20190531T080000
DTEND;TZID=UTC:20190531T170000
DTSTAMP:20260421T181622
CREATED:20190325T134907Z
LAST-MODIFIED:20190325T134907Z
UID:2929-1559289600-1559322000@wot-if.co.za
SUMMARY:Roots & Shoots
DESCRIPTION:
URL:https://wot-if.co.za/event/roots-shoots-8/
END:VEVENT
BEGIN:VEVENT
DTSTART;TZID=UTC:20190530T080000
DTEND;TZID=UTC:20190530T170000
DTSTAMP:20260421T181622
CREATED:20190325T154850Z
LAST-MODIFIED:20190325T154850Z
UID:2997-1559203200-1559235600@wot-if.co.za
SUMMARY:Women's Empowerment Handcrafting
DESCRIPTION:
URL:https://wot-if.co.za/event/womens-empowerment-handcrafting-17/
END:VEVENT
BEGIN:VEVENT
DTSTART;TZID=UTC:20190528T080000
DTEND;TZID=UTC:20190528T170000
DTSTAMP:20260421T181622
CREATED:20190325T133956Z
LAST-MODIFIED:20190325T133956Z
UID:2909-1559030400-1559062800@wot-if.co.za
SUMMARY:Women’s Empowerment Handcrafting
DESCRIPTION:
URL:https://wot-if.co.za/event/womens-empowerment-handcrafting-24/
END:VEVENT
BEGIN:VEVENT
DTSTART;TZID=UTC:20190525T080000
DTEND;TZID=UTC:20190525T170000
DTSTAMP:20260421T181622
CREATED:20190417T145355Z
LAST-MODIFIED:20190417T145356Z
UID:3090-1558771200-1558803600@wot-if.co.za
SUMMARY:Roots & Shoots Open Day
DESCRIPTION:
URL:https://wot-if.co.za/event/roots-shoots-open-day/
END:VEVENT
BEGIN:VEVENT
DTSTART;TZID=UTC:20190524T080000
DTEND;TZID=UTC:20190524T170000
DTSTAMP:20260421T181622
CREATED:20190325T134833Z
LAST-MODIFIED:20190325T134833Z
UID:2927-1558684800-1558717200@wot-if.co.za
SUMMARY:Roots & Shoots
DESCRIPTION:
URL:https://wot-if.co.za/event/roots-shoots-7/
END:VEVENT
BEGIN:VEVENT
DTSTART;TZID=UTC:20190523T080000
DTEND;TZID=UTC:20190523T170000
DTSTAMP:20260421T181622
CREATED:20190325T131002Z
LAST-MODIFIED:20190325T131002Z
UID:2886-1558598400-1558630800@wot-if.co.za
SUMMARY:Women’s Empowerment Handcrafting
DESCRIPTION:
URL:https://wot-if.co.za/event/womens-empowerment-handcrafting-12/
END:VEVENT
BEGIN:VEVENT
DTSTART;TZID=UTC:20190522T080000
DTEND;TZID=UTC:20190522T170000
DTSTAMP:20260421T181622
CREATED:20190327T124407Z
LAST-MODIFIED:20190401T114251Z
UID:3022-1558512000-1558544400@wot-if.co.za
SUMMARY:Business Master Class
DESCRIPTION:
URL:https://wot-if.co.za/event/business-master-class-2/
END:VEVENT
BEGIN:VEVENT
DTSTART;TZID=UTC:20190521T080000
DTEND;TZID=UTC:20190521T170000
DTSTAMP:20260421T181622
CREATED:20190325T130939Z
LAST-MODIFIED:20190325T130939Z
UID:2884-1558425600-1558458000@wot-if.co.za
SUMMARY:Women’s Empowerment Handcrafting
DESCRIPTION:
URL:https://wot-if.co.za/event/womens-empowerment-handcrafting-11/
END:VEVENT
BEGIN:VEVENT
DTSTART;TZID=UTC:20190517T080000
DTEND;TZID=UTC:20190517T170000
DTSTAMP:20260421T181622
CREATED:20190325T135540Z
LAST-MODIFIED:20190325T135717Z
UID:2938-1558080000-1558112400@wot-if.co.za
SUMMARY:Roots & Shoots
DESCRIPTION:
URL:https://wot-if.co.za/event/roots-shoots-12/
END:VEVENT
BEGIN:VEVENT
DTSTART;TZID=UTC:20190516T080000
DTEND;TZID=UTC:20190516T170000
DTSTAMP:20260421T181622
CREATED:20190325T130448Z
LAST-MODIFIED:20190325T130448Z
UID:2880-1557993600-1558026000@wot-if.co.za
SUMMARY:Women’s Empowerment Handcrafting
DESCRIPTION:
URL:https://wot-if.co.za/event/womens-empowerment-handcrafting-16/
END:VEVENT
BEGIN:VEVENT
DTSTART;TZID=UTC:20190514T080000
DTEND;TZID=UTC:20190516T170000
DTSTAMP:20260421T181622
CREATED:20190325T143327Z
LAST-MODIFIED:20190401T111547Z
UID:2951-1557820800-1558026000@wot-if.co.za
SUMMARY:Economic Literacy Training
DESCRIPTION:
URL:https://wot-if.co.za/event/economic-literacy-training/
END:VEVENT
BEGIN:VEVENT
DTSTART;TZID=UTC:20190514T080000
DTEND;TZID=UTC:20190514T170000
DTSTAMP:20260421T181622
CREATED:20190325T130346Z
LAST-MODIFIED:20190325T130402Z
UID:2878-1557820800-1557853200@wot-if.co.za
SUMMARY:Women’s Empowerment Handcrafting
DESCRIPTION:
URL:https://wot-if.co.za/event/womens-empowerment-handcrafting-15/
END:VEVENT
BEGIN:VEVENT
DTSTART;VALUE=DATE:20190512
DTEND;VALUE=DATE:20190513
DTSTAMP:20260421T181622
CREATED:20190325T152955Z
LAST-MODIFIED:20190325T152955Z
UID:2979-1557619200-1557705599@wot-if.co.za
SUMMARY:Mother's Day
DESCRIPTION:The Trust wishes everyone a Happy Mother’s Day
URL:https://wot-if.co.za/event/mothers-day/
END:VEVENT
BEGIN:VEVENT
DTSTART;TZID=UTC:20190510T080000
DTEND;TZID=UTC:20190510T170000
DTSTAMP:20260421T181622
CREATED:20190327T124903Z
LAST-MODIFIED:20190327T134054Z
UID:3028-1557475200-1557507600@wot-if.co.za
SUMMARY:Fujitsu Content Lab Launch at eHub
DESCRIPTION:
URL:https://wot-if.co.za/event/fujitsu-content-lab-launch-at-ehub/
END:VEVENT
BEGIN:VEVENT
DTSTART;TZID=UTC:20190510T080000
DTEND;TZID=UTC:20190510T170000
DTSTAMP:20260421T181622
CREATED:20190325T135508Z
LAST-MODIFIED:20190325T135508Z
UID:2936-1557475200-1557507600@wot-if.co.za
SUMMARY:Roots & Shoots
DESCRIPTION:
URL:https://wot-if.co.za/event/roots-shoots-11/
END:VEVENT
BEGIN:VEVENT
DTSTART;TZID=UTC:20190509T080000
DTEND;TZID=UTC:20190509T170000
DTSTAMP:20260421T181622
CREATED:20190325T130250Z
LAST-MODIFIED:20190325T130250Z
UID:2874-1557388800-1557421200@wot-if.co.za
SUMMARY:Women’s Empowerment Handcrafting
DESCRIPTION:
URL:https://wot-if.co.za/event/womens-empowerment-handcrafting-13/
END:VEVENT
BEGIN:VEVENT
DTSTART;VALUE=DATE:20190508
DTEND;VALUE=DATE:20190509
DTSTAMP:20260421T181622
CREATED:20190325T152826Z
LAST-MODIFIED:20190325T152836Z
UID:2976-1557273600-1557359999@wot-if.co.za
SUMMARY:Election Day
DESCRIPTION:FLBC & eHub closed for Election Day
URL:https://wot-if.co.za/event/election-day/
END:VEVENT
END:VCALENDAR